BEGIN:VCALENDAR
VERSION:2.0
PRODID:-//wp-events-plugin.com//7.2.3.1//EN
TZID:Europe/London
X-WR-TIMEZONE:Europe/London
BEGIN:VEVENT
UID:613@littlehiccups.co.uk
DTSTART;TZID=Europe/London:20250214T100000
DTEND;TZID=Europe/London:20250214T120000
DTSTAMP:20250214T142113Z
URL:https://www.littlehiccups.co.uk/events/2025-02-14-online-day-beyond-be
 haviour-understanding-distress-hormones/
SUMMARY:2025 02 14 Online (day): Beyond Behaviour: Understanding Distress &
  Hormones
DESCRIPTION:ONLINE (Day)\n\nEmotional well-being\, distress behaviour and s
 elf-care tasks like eating and sleeping all tend to be at the top of conce
 rns that we have for our young people. And to be honest\, for ourselves as
  well.
ATTACH;FMTTYPE=image/jpeg:https://www.littlehiccups.co.uk/wp-content/uploa
 ds/2023/02/Logo-Curved-LH-ND-Nurse-Consulting-1.png
LOCATION:Online\, TBC\, TBC\, United Kingdom
GEO:55.378051;-3.435973
X-APPLE-STRUCTURED-LOCATION;VALUE=URI;X-ADDRESS=TBC\, TBC\, United Kingdom;
 X-APPLE-RADIUS=100;X-TITLE=Online:geo:55.378051,-3.435973
END:VEVENT
BEGIN:VTIMEZONE
TZID:Europe/London
X-LIC-LOCATION:Europe/London
BEGIN:STANDARD
DTSTART:20241027T010000
TZOFFSETFROM:+0100
TZOFFSETTO:+0000
TZNAME:GMT
END:STANDARD
END:VTIMEZONE
END:VCALENDAR