BEGIN:VCALENDAR
VERSION:2.0
PRODID:-//wp-events-plugin.com//7.2.3.1//EN
TZID:Europe/London
X-WR-TIMEZONE:Europe/London
BEGIN:VEVENT
UID:616@littlehiccups.co.uk
DTSTART;TZID=Europe/London:20250319T190000
DTEND;TZID=Europe/London:20250319T210000
DTSTAMP:20250321T111306Z
URL:https://www.littlehiccups.co.uk/events/2025-03-19-online-evening-suppo
 rting-your-young-person-in-distress-reframing-challenging-behaviour/
SUMMARY:2025 03 19 Online (evening): Supporting Your Young Person in Distre
 ss & Reframing Challenging Behaviour:
DESCRIPTION:ONLINE (Evening)\n\nThis workshop will first look at challengin
 g behaviours and reframe these to distress behaviours. From there\, we can
  clarify why these distress behaviours are happening and review examples o
 f each. Importantly\, we will learn the foundations of boundary setting th
 at work best for neurodivergent young people. While doing this\, we will s
 tart thinking about traditional parenting advice and how we might need to 
 rethink consequences in order to build a young person’s sense of safety\
 , trust and overall well-being.
ATTACH;FMTTYPE=image/jpeg:https://www.littlehiccups.co.uk/wp-content/uploa
 ds/2023/02/Logo-Curved-LH-ND-Nurse-Consulting-1.png
LOCATION:Online\, TBC\, TBC\, United Kingdom
GEO:55.378051;-3.435973
X-APPLE-STRUCTURED-LOCATION;VALUE=URI;X-ADDRESS=TBC\, TBC\, United Kingdom;
 X-APPLE-RADIUS=100;X-TITLE=Online:geo:55.378051,-3.435973
END:VEVENT
BEGIN:VTIMEZONE
TZID:Europe/London
X-LIC-LOCATION:Europe/London
BEGIN:STANDARD
DTSTART:20241027T010000
TZOFFSETFROM:+0100
TZOFFSETTO:+0000
TZNAME:GMT
END:STANDARD
END:VTIMEZONE
END:VCALENDAR