BEGIN:VCALENDAR
VERSION:2.0
PRODID:-//wp-events-plugin.com//7.2.3.1//EN
TZID:Europe/London
X-WR-TIMEZONE:Europe/London
BEGIN:VEVENT
UID:619@littlehiccups.co.uk
DTSTART;TZID=Europe/London:20250429T190000
DTEND;TZID=Europe/London:20250429T210000
DTSTAMP:20250430T125848Z
URL:https://www.littlehiccups.co.uk/events/2025-04-29-online-evening-co-re
 gulation-the-whys-and-hows/
SUMMARY:2025 04 29 Online (evening): Co-Regulation\, The Whys and Hows
DESCRIPTION:ONLINE (Evening)\n\nOne of the most common concerns that parent
 s and carers list in regards to their young person is emotional regulation
 . This workshop hears that concern and looks to build to build toward regu
 lation from a foundation of co-regulation. Therefore\, we will look at wha
 t is co-regulation and why is it so key in the development of our young pe
 ople. Importantly we will look at different ways to co-regulate and how to
  use co-regulation to support self-care tasks and learning.
ATTACH;FMTTYPE=image/jpeg:https://www.littlehiccups.co.uk/wp-content/uploa
 ds/2023/02/Logo-Curved-LH-ND-Nurse-Consulting-1.png
LOCATION:Online\, TBC\, TBC\, United Kingdom
GEO:55.378051;-3.435973
X-APPLE-STRUCTURED-LOCATION;VALUE=URI;X-ADDRESS=TBC\, TBC\, United Kingdom;
 X-APPLE-RADIUS=100;X-TITLE=Online:geo:55.378051,-3.435973
END:VEVENT
BEGIN:VTIMEZONE
TZID:Europe/London
X-LIC-LOCATION:Europe/London
BEGIN:DAYLIGHT
DTSTART:20250330T020000
TZOFFSETFROM:+0000
TZOFFSETTO:+0100
TZNAME:BST
END:DAYLIGHT
END:VTIMEZONE
END:VCALENDAR