BEGIN:VCALENDAR
VERSION:2.0
PRODID:-//wp-events-plugin.com//7.2.3.1//EN
TZID:Europe/London
X-WR-TIMEZONE:Europe/London
BEGIN:VEVENT
UID:988@littlehiccups.co.uk
DTSTART;TZID=Europe/London:20260213T100000
DTEND;TZID=Europe/London:20260213T120000
DTSTAMP:20260303T120238Z
URL:https://www.littlehiccups.co.uk/events/2026-02-13-online-day-all-thing
 s-waking-up-and-the-morning/
SUMMARY:2026 02 13 Online (day): All Things Waking Up and the Morning
DESCRIPTION:Mornings can feel like the hardest part of the day. The rush\,
  the demands\, the transitions…all on top of young people trying to wake
  up and get going. For disabled and neurodivergent children\, mornings can
  bring extra challenges\, from differences in sleep cycles and blood sugar
  to managing cortisol levels\, energy\, and the pressure of time.\n\nDurin
 g our time together\, we’ll explore what’s really happening in the bod
 y and brain during wake-up time. We’ll look at how the circadian rhythms
 \, health factors\, and stress hormones affect mornings and what this mean
 s for your child. Together we’ll look at practical strategies for helpin
 g young people transition into their day and tools for supporting everyone
  at such a busy time of the day. 
ATTACH;FMTTYPE=image/jpeg:https://www.littlehiccups.co.uk/wp-content/uploa
 ds/2023/02/Logo-Curved-LH-ND-Nurse-Consulting-1.png
END:VEVENT
BEGIN:VTIMEZONE
TZID:Europe/London
X-LIC-LOCATION:Europe/London
BEGIN:STANDARD
DTSTART:20251026T010000
TZOFFSETFROM:+0100
TZOFFSETTO:+0000
TZNAME:GMT
END:STANDARD
END:VTIMEZONE
END:VCALENDAR