BEGIN:VCALENDAR
VERSION:2.0
PRODID:-//wp-events-plugin.com//7.2.3.1//EN
TZID:Europe/London
X-WR-TIMEZONE:Europe/London
BEGIN:VEVENT
UID:983@littlehiccups.co.uk
DTSTART;TZID=Europe/London:20260303T090000
DTEND;TZID=Europe/London:20260303T160000
DTSTAMP:20260303T133406Z
URL:https://www.littlehiccups.co.uk/events/2026-03-03-free-legal-clinic-wi
 th-stewarts/
SUMMARY:2026 03 03 FREE Legal Clinic with Stewarts
DESCRIPTION:We’re pleased to offer Little Hiccups families the opportunit
 y to speak with Amy Fielding\, Partner in the Medical Negligence Team at S
 tewarts and a former nurse\, in a free legal clinic designed specifically 
 for parents and carers.
ATTACH;FMTTYPE=image/jpeg:https://www.littlehiccups.co.uk/wp-content/uploa
 ds/2025/11/Little-Hiccups-Legal-Clinic-3-March-2026.jpg
LOCATION:Online\, Online\, Online\, United Kingdom
X-APPLE-STRUCTURED-LOCATION;VALUE=URI;X-ADDRESS=Online\, Online\, United Ki
 ngdom;X-APPLE-RADIUS=100;X-TITLE=Online:geo:0,0
END:VEVENT
BEGIN:VTIMEZONE
TZID:Europe/London
X-LIC-LOCATION:Europe/London
BEGIN:STANDARD
DTSTART:20251026T010000
TZOFFSETFROM:+0100
TZOFFSETTO:+0000
TZNAME:GMT
END:STANDARD
END:VTIMEZONE
END:VCALENDAR