BEGIN:VCALENDAR
VERSION:2.0
PRODID:-//wp-events-plugin.com//7.2.3.1//EN
TZID:Europe/London
X-WR-TIMEZONE:Europe/London
BEGIN:VEVENT
UID:993@littlehiccups.co.uk
DTSTART;TZID=Europe/London:20260422T100000
DTEND;TZID=Europe/London:20260422T130000
DTSTAMP:20260422T104435Z
URL:https://www.littlehiccups.co.uk/events/2026-04-22-in-person-rethinking
 -hygiene-inclusive-strategies-for-neurodivergent-wellbeing/
SUMMARY:2026 04 22 In Person: Rethinking Hygiene: Inclusive Strategies for 
 Neurodivergent Wellbeing
DESCRIPTION:Join in on this course designed for parents and carers interest
 ed in exploring self-care. Together\, we’ll approach hygiene from a neur
 o-affirming perspective\, considering sensory needs\, autonomy\, communica
 tion\, identity-expression\, and healthcare factors that influence daily r
 outines.\n\nIn this session\, we’ll zoom in on toothbrushing\, often rep
 orted as one of the trickiest parts of a young person’s day\, as well as
  the challenges and strategies around taking medications. You’ll be invi
 ted to reflect on your own experiences and practices as we explore the goa
 ls of hygiene and medication routines\, why these tasks can sometimes be d
 ifficult\, and how identity and co-occurring health conditions can impact 
 access. We’ll also share practical\, easy-to-implement strategies that c
 an be used right away that all honour sensory needs\, autonomy\, and comfo
 rt.
ATTACH;FMTTYPE=image/jpeg:https://www.littlehiccups.co.uk/wp-content/uploa
 ds/2023/02/Logo-Curved-LH-ND-Nurse-Consulting-1.png
LOCATION:Leeds Mencap\, 20 Vinery Terrace\, Leeds\, West Yorkshire\, LS9 9L
 U\, United Kingdom
GEO:53.796913;-1.511842
X-APPLE-STRUCTURED-LOCATION;VALUE=URI;X-ADDRESS=20 Vinery Terrace\, Leeds\,
  West Yorkshire\, LS9 9LU\, United Kingdom;X-APPLE-RADIUS=100;X-TITLE=Leed
 s Mencap:geo:53.796913,-1.511842
END:VEVENT
BEGIN:VTIMEZONE
TZID:Europe/London
X-LIC-LOCATION:Europe/London
BEGIN:DAYLIGHT
DTSTART:20260329T020000
TZOFFSETFROM:+0000
TZOFFSETTO:+0100
TZNAME:BST
END:DAYLIGHT
END:VTIMEZONE
END:VCALENDAR