BEGIN:VCALENDAR
VERSION:2.0
PRODID:-//wp-events-plugin.com//7.2.3.1//EN
TZID:Europe/London
X-WR-TIMEZONE:Europe/London
BEGIN:VEVENT
UID:5@littlehiccups.co.uk
DTSTART:20200708T191500Z
DTEND:20200708T201500Z
DTSTAMP:20221116T115507Z
URL:https://www.littlehiccups.co.uk/events/online-course-introduction-to-s
 upporting-siblings-of-disabled-children/
SUMMARY:Online Course: Introduction to supporting siblings of disabled chil
 dren
DESCRIPTION:This workshop is for parents who want to know more about suppor
 ting siblings.
ATTACH;FMTTYPE=image/jpeg:https://www.littlehiccups.co.uk/wp-content/uploa
 ds/2020/04/f90655fc-7b43-475d-b0d1-7c1a1c5f0ef9.jpg
LOCATION:Online\, Your home\, Your City\, United Kingdom
GEO:55.378051;-3.435973
X-APPLE-STRUCTURED-LOCATION;VALUE=URI;X-ADDRESS=Your home\, Your City\, Uni
 ted Kingdom;X-APPLE-RADIUS=100;X-TITLE=Online:geo:55.378051,-3.435973
END:VEVENT
END:VCALENDAR