BEGIN:VCALENDAR
VERSION:2.0
PRODID:-//wp-events-plugin.com//7.2.3.1//EN
TZID:Europe/London
X-WR-TIMEZONE:Europe/London
BEGIN:VEVENT
UID:1121@littlehiccups.co.uk
DTSTART;TZID=Europe/London:20260622T100000
DTEND;TZID=Europe/London:20260622T120000
DTSTAMP:20260408T091420Z
URL:https://www.littlehiccups.co.uk/events/stay-n-play-monday-morning-sess
 ion-at-tcv-skelton-2026-06-15/
SUMMARY:Stay n Play - Monday morning session at TCV Skelton
DESCRIPTION:Monday morning\n10.00pm - 12.00pm
ATTACH;FMTTYPE=image/jpeg:https://www.littlehiccups.co.uk/wp-content/uploa
 ds/2026/04/hobbit-house-header-1080x370-1.jpg
CATEGORIES:Stay n Play - Skelton
LOCATION:TCV Skelton Grange\, Skelton Grange Road\, Leeds\, LS10 1RS\, 
X-APPLE-STRUCTURED-LOCATION;VALUE=URI;X-ADDRESS=Skelton Grange Road\, Leeds
 \, LS10 1RS\, ;X-APPLE-RADIUS=100;X-TITLE=TCV Skelton Grange:geo:0,0
END:VEVENT
BEGIN:VTIMEZONE
TZID:Europe/London
X-LIC-LOCATION:Europe/London
BEGIN:DAYLIGHT
DTSTART:20260329T020000
TZOFFSETFROM:+0000
TZOFFSETTO:+0100
TZNAME:BST
END:DAYLIGHT
END:VTIMEZONE
END:VCALENDAR