BEGIN:VCALENDAR
VERSION:2.0
PRODID:-//wp-events-plugin.com//7.2.3.1//EN
TZID:Europe/London
X-WR-TIMEZONE:Europe/London
BEGIN:VEVENT
UID:810@littlehiccups.co.uk
DTSTART;TZID=Europe/London:20250602T101500
DTEND;TZID=Europe/London:20250728T111500
DTSTAMP:20250728T135019Z
URL:https://www.littlehiccups.co.uk/events/wellbeing-for-parents-yoga-cour
 se/
SUMMARY:2025 06 Wellbeing for Parents Yoga Course
DESCRIPTION:This 5 week course is about providing a space for you to turn u
 p as you are and enjoy some yoga based movement\, breathing practices and 
 relaxation as well as practical tips\, focusing on regulation\, grounding 
 and resetting.
ATTACH;FMTTYPE=image/jpeg:https://www.littlehiccups.co.uk/wp-content/uploa
 ds/2025/04/Yoga-With-Debs-full-400200-300x150-1.png
LOCATION:Welcome In Community Centre\,  55 Bedford Drive \, Leeds\, LS16 6D
 J\, United Kingdom
X-APPLE-STRUCTURED-LOCATION;VALUE=URI;X-ADDRESS= 55 Bedford Drive \, Leeds\
 , LS16 6DJ\, United Kingdom;X-APPLE-RADIUS=100;X-TITLE=Welcome In Communit
 y Centre:geo:0,0
END:VEVENT
BEGIN:VTIMEZONE
TZID:Europe/London
X-LIC-LOCATION:Europe/London
BEGIN:DAYLIGHT
DTSTART:20250330T020000
TZOFFSETFROM:+0000
TZOFFSETTO:+0100
TZNAME:BST
END:DAYLIGHT
END:VTIMEZONE
END:VCALENDAR